BEGIN:VCALENDAR
VERSION:2.0
PRODID:-//jEvents 2.0 for Joomla//EN
CALSCALE:GREGORIAN
METHOD:PUBLISH
BEGIN:VTIMEZONE
TZID:Europe/Budapest
BEGIN:STANDARD
DTSTART:20221030T020000
RDATE:20230326T030000
TZOFFSETFROM:+0200
TZOFFSETTO:+0100
TZNAME:Europe/Budapest CET
END:STANDARD
BEGIN:STANDARD
DTSTART:20231029T020000
RDATE:20240331T030000
TZOFFSETFROM:+0200
TZOFFSETTO:+0100
TZNAME:Europe/Budapest CET
END:STANDARD
BEGIN:STANDARD
DTSTART:20241027T020000
RDATE:20250330T030000
TZOFFSETFROM:+0200
TZOFFSETTO:+0100
TZNAME:Europe/Budapest CET
END:STANDARD
BEGIN:STANDARD
DTSTART:20251026T020000
RDATE:20260329T030000
TZOFFSETFROM:+0200
TZOFFSETTO:+0100
TZNAME:Europe/Budapest CET
END:STANDARD
BEGIN:STANDARD
DTSTART:20261025T020000
RDATE:20270328T030000
TZOFFSETFROM:+0200
TZOFFSETTO:+0100
TZNAME:Europe/Budapest CET
END:STANDARD
BEGIN:STANDARD
DTSTART:20271031T020000
RDATE:20280326T030000
TZOFFSETFROM:+0200
TZOFFSETTO:+0100
TZNAME:Europe/Budapest CET
END:STANDARD
BEGIN:STANDARD
DTSTART:20281029T020000
RDATE:20290325T030000
TZOFFSETFROM:+0200
TZOFFSETTO:+0100
TZNAME:Europe/Budapest CET
END:STANDARD
BEGIN:STANDARD
DTSTART:20291028T020000
RDATE:20300331T030000
TZOFFSETFROM:+0200
TZOFFSETTO:+0100
TZNAME:Europe/Budapest CET
END:STANDARD
BEGIN:STANDARD
DTSTART:20301027T020000
RDATE:20310330T030000
TZOFFSETFROM:+0200
TZOFFSETTO:+0100
TZNAME:Europe/Budapest CET
END:STANDARD
BEGIN:STANDARD
DTSTART:20311026T020000
RDATE:20320328T030000
TZOFFSETFROM:+0200
TZOFFSETTO:+0100
TZNAME:Europe/Budapest CET
END:STANDARD
BEGIN:DAYLIGHT
DTSTART:20221001T080000
RDATE:20221030T020000
TZOFFSETFROM:+0100
TZOFFSETTO:+0200
TZNAME:Europe/Budapest CEST
END:DAYLIGHT
BEGIN:DAYLIGHT
DTSTART:20230326T030000
RDATE:20231029T020000
TZOFFSETFROM:+0100
TZOFFSETTO:+0200
TZNAME:Europe/Budapest CEST
END:DAYLIGHT
BEGIN:DAYLIGHT
DTSTART:20240331T030000
RDATE:20241027T020000
TZOFFSETFROM:+0100
TZOFFSETTO:+0200
TZNAME:Europe/Budapest CEST
END:DAYLIGHT
BEGIN:DAYLIGHT
DTSTART:20250330T030000
RDATE:20251026T020000
TZOFFSETFROM:+0100
TZOFFSETTO:+0200
TZNAME:Europe/Budapest CEST
END:DAYLIGHT
BEGIN:DAYLIGHT
DTSTART:20260329T030000
RDATE:20261025T020000
TZOFFSETFROM:+0100
TZOFFSETTO:+0200
TZNAME:Europe/Budapest CEST
END:DAYLIGHT
BEGIN:DAYLIGHT
DTSTART:20270328T030000
RDATE:20271031T020000
TZOFFSETFROM:+0100
TZOFFSETTO:+0200
TZNAME:Europe/Budapest CEST
END:DAYLIGHT
BEGIN:DAYLIGHT
DTSTART:20280326T030000
RDATE:20281029T020000
TZOFFSETFROM:+0100
TZOFFSETTO:+0200
TZNAME:Europe/Budapest CEST
END:DAYLIGHT
BEGIN:DAYLIGHT
DTSTART:20290325T030000
RDATE:20291028T020000
TZOFFSETFROM:+0100
TZOFFSETTO:+0200
TZNAME:Europe/Budapest CEST
END:DAYLIGHT
BEGIN:DAYLIGHT
DTSTART:20300331T030000
RDATE:20301027T020000
TZOFFSETFROM:+0100
TZOFFSETTO:+0200
TZNAME:Europe/Budapest CEST
END:DAYLIGHT
BEGIN:DAYLIGHT
DTSTART:20310330T030000
RDATE:20311026T020000
TZOFFSETFROM:+0100
TZOFFSETTO:+0200
TZNAME:Europe/Budapest CEST
END:DAYLIGHT
END:VTIMEZONE
BEGIN:VEVENT
UID:16468e2f89bc53b317a3ccd10459126c
CATEGORIES:EKMK
CREATED:20230921T130024
SUMMARY:Országos Könyvtári Napok - 2023.
DESCRIPTION;ENCODING=QUOTED-PRINTABLE:\n\n2023. október 02-08.&nbsp;között szeretettel várunk az Országos Könyvtá
 ri Napok alkalmából szervezett programjainkra!\n\n\n&nbsp;\n\n\nAz Eötvös K
 ároly Megyei Könyvtár (Veszprém, Komakút tér 3.) programjai:\n\n\nOktóber 7
 -8-án a 16-70 év közötti olvasóknak&nbsp;500 Ft-os akciós beiratkozást tart
 unk, mely a komplex beiratkozásra is vonatkozik!\n\n\nA gyorsabb ügyintézés
  érdekében kérjük lehetőség szerint az adott összeget készítsék elő készpén
 zben.\n\n\nAmnesztia: vasárnap a lejárt határidejű dokumentumokat késedelmi
  díj felszámítása nélkül visszavesszük!\n\n\n&nbsp;\n\n\nKEDDTŐL - VASÁRNAP
 IG (2023.10.03-08.)\n\n\n- Viadukt kiállítás /II. emeleti Könyvkiválasztó t
 ér/\n\n\n- Online kvízjáték: Hidak a Séden -&nbsp;https://forms.gle/4vDeGF4
 BTemoQ61S6\n\n\n- Könyv és DVD kiállítás: Gyógyító könyvek, A könyv élmény,
  Belső utazás témakörben /II. emeleti Könyvkiválasztó tér/\n\n\n- Kiállítás
 : "A művészet az elmondhatatlan tolmácsa" a Zachor Alapítvány kiállítása /Z
 UG/\n\n\n-&nbsp;14 órakor a Petőfi zarándoklat résztvevőinek fogadása\n\n\n
 SZERDA (2023.10.04.)\n\n\n- 14:00-18:00 Ki nevet a végén? Társasjáték délut
 án az egész családnak - Próbáld ki óriás társasjátékunkat! /Gyermekrészleg/
 \n\n\n- 16:00&nbsp;MATASZ kiállításmegnyitó&nbsp;/Kisgaléria/\n\n\n- 17:00&
 nbsp;Szervezett vezetés a Pannon Egyetem Könyvtár és Tudásközpont muzeális 
 különgyűjteményben\n\n\nA program csak előzetes jelentkezéssel látogatható.
  Regisztráció:&nbsp;This email address is being protected from spambots. Yo
 u need JavaScript enabled to view it.
				document.getElementById('cloakfa2
 8105c2459d374d399fde1b2d865bd').innerHTML = '';
				var prefix = '&#109;a' 
 + 'i&#108;' + '&#116;o';
				var path = 'hr' + 'ef' + '=';
				var addyfa28
 105c2459d374d399fde1b2d865bd = 'k&#101;ny&#101;r&#101;s&#105;' + '&#64;';
	
 			addyfa28105c2459d374d399fde1b2d865bd = addyfa28105c2459d374d399fde1b2d86
 5bd + '&#101;kmk' + '&#46;' + 'h&#117;';
				var addy_textfa28105c2459d374d
 399fde1b2d865bd = 'k&#101;ny&#101;r&#101;s&#105;' + '&#64;' + '&#101;kmk' +
  '&#46;' + 'h&#117;';document.getElementById('cloakfa28105c2459d374d399fde1
 b2d865bd').innerHTML += ''+addy_textfa28105c2459d374d399fde1b2d865bd+'';
		
 \n\n\n/Pannon Egyetem Könyvtár és Tudásközpont, Veszprém, Wartha Vince u. 1
 . M-épület/\n\n\n- 17:00&nbsp;Vágyi Petra klinikai szakpszichológus, sémate
 rapeuta: Sémáink fogságában - sématerápia a gyakorlatban c. előadása&nbsp;/
 Kisfaludy Terem/\n\n\nCSÜTÖRTÖK (2023.10.05.)\n\n\n- 16:30-17:30&nbsp;Kutya
 terápiás foglalkozás Jánoska Anikóval&nbsp;/Gyermekrészleg/\n\n\n- 16:30-17
 :30&nbsp;Conversation Club - angol nyelvű társalgás&nbsp;/American Corner/\
 n\n\n- 17:00-19:00 Zenei Klub /ZUG/\n\n\nPÉNTEK (2023.10.06.)\n\n\n- 15:00&
 nbsp;Szervezett vezetés a Pannon Egyetem Könyvtár és Tudásközpont muzeális 
 különgyűjteményben\n\n\nA program csak előzetes jelentkezéssel látogatható.
  Regisztráció:&nbsp;This email address is being protected from spambots. Yo
 u need JavaScript enabled to view it.
				document.getElementById('cloak619
 7eb3478b076711340724d21c2ce21').innerHTML = '';
				var prefix = '&#109;a' 
 + 'i&#108;' + '&#116;o';
				var path = 'hr' + 'ef' + '=';
				var addy6197
 eb3478b076711340724d21c2ce21 = 'k&#101;ny&#101;r&#101;s&#105;' + '&#64;';
	
 			addy6197eb3478b076711340724d21c2ce21 = addy6197eb3478b076711340724d21c2c
 e21 + '&#101;kmk' + '&#46;' + 'h&#117;';
				var addy_text6197eb3478b076711
 340724d21c2ce21 = 'k&#101;ny&#101;r&#101;s&#105;' + '&#64;' + '&#101;kmk' +
  '&#46;' + 'h&#117;';document.getElementById('cloak6197eb3478b076711340724d
 21c2ce21').innerHTML += ''+addy_text6197eb3478b076711340724d21c2ce21+'';
		
 \n\n\n/Pannon Egyetem Könyvtár és Tudásközpont, Veszprém, Wartha Vince u. 1
 . M-épület/\n\n\n- 16:00&nbsp;"Mancsolj velünk a lelki egészségért!" Négylá
 bú doktorok a könyvtárban&nbsp;/Közösségi Tér/\n\n\n- 16:00&nbsp;Kiállítás:
  Az örömteli élet kisállatokkal rajzverseny díjazott műveinek kiállítása&nb
 sp;/Közösségi Tér/\n\n\n- 17:00-18:00&nbsp;Te is tudsz táncolni! Táncház Ti
 már Veronika vezetésével és a Horgony Pszichiátriai Betegekért Közhasznú Al
 apítvány közreműködésével&nbsp;/Közösségi Tér/\n\n\n- 17:00&nbsp;Pozsgay Gy
 ula: Az ifjú Oroszlán című képregénykönyv bemutatója&nbsp;/Kisfaludy Terem/
 \n\n\nSZOMBAT (2023.10.07.)\n\n\n- 10:00-16:00&nbsp;Mag és növény cserebere
 &nbsp;/ZUG/\n\n\n- 10:00-12:00&nbsp;Könyvtári hétpróba: Szerencsepróbáló ki
 rályfi - Olvasásfejlesztő családi vetélkedő&nbsp;/Gyermekrészleg, jó idő es
 etén Színházkert/\n\n\n- 13:00-15:00&nbsp;Családi játszóház a gyermekrészle
 gen&nbsp;/Gyermekrészleg, foglalkoztató terem/\n\n\n- 14:00&nbsp;„Bátorság 
 útja” 21. századi kompetenciák címmel Pulger Veronika három részes tudásmen
 edzsment&nbsp; interaktív előadássorozata felsősöknek&nbsp;/Közösségi Tér/\
 n\n\n- 15:00&nbsp;Fizikai és lelki utazás Fekete-Afrika népei között - Afri
 Kata (Bodó Katalin) előadása&nbsp;/ZUG/\n\n\n- 15:00&nbsp;Szeget szeggel - 
 Ismerkedjünk meg a középkori városrészekkel! Vezetett séta&nbsp;/Gyülekező:
  Amfiteátrum/\n\n\n- 17:00&nbsp;"Együtt jobban szól": Lásho Lecsó autenteni
 kus cigány zenekar, SeamRóg Tatati Ír Zenekar&nbsp;/Amfiteátrum, esőhelyszí
 n: Kisfaludy Terem/\n\n\nVASÁRNAP (2023.10.08.)\n\n\n- 09:00-18:00&nbsp;Beh
 arangozó, Mini hétpróba, Olvasásfejlesztő játék általános iskolás gyerekekn
 ek&nbsp;/Gyermekrészleg/\n\n\n- 09:00-12:00 Kincses gyűjtemény - Kuriózumok
  bemutatása a Helyismereti gyűjteményben /Helyismereti gyűjtemény/\n\n\n- 1
 0:00-12:00&nbsp;Készítsünk együtt őszi ajtódíszt! Családi játszóház Nemes É
 vával&nbsp;/Gyermekrészleg, foglalkoztató/\n\n\n- 12:00-18:00&nbsp;Játsszun
 k együtt! A Családi Társasjáték Egyesület játékmestereivel várja a játékos 
 kedvű embereket!\n\n\n/ZUG/\n\n\n- 14:00-15:00&nbsp;Robotika foglalkozás Ma
 kai Rolanddal&nbsp;/Gyermekrészleg, foglalkoztató/\n\n\n- 15:00-16:00&nbsp;
 Könyvbemutató - Somogyi Eszter: Ébresztő mesék. Formabontó módszerek a 3-7 
 éves gyerekek\n\n\nvidám és gyors ébredéséhez&nbsp;/Gyermekrészleg, foglalk
 oztató/\n\n\n- 15:00-17:00&nbsp;Arcfestés, csillámtetkó&nbsp;/Gyermekrészle
 g/\n\n\n- 16:30&nbsp;Varró Dani - Molnár Gyuri: A költő nincsen otthon&nbsp
 ;/Kisfaludy Terem/\n\n\n&nbsp;\n\n\nA Március 15. úti Könyvtár (Veszprém, M
 árcius 15. u. 1/a) programjai:\n\n\nHÉTFŐTŐL – PÉNTEKIG (2023.10.02-10.06.)
 \n\n\n- Amnesztia napok: a lejárt határidejű dokumentumokat késedelmi díj f
 elszámítása nélkül visszavesszük!\n\n\n- "Kultúr-turi - A könyv érték - min
 den példány találja meg a maga olvasóját!" Közösségi felajánlásból - végy e
 gy könyvet program\n\n\nHÉTFŐTŐL - VASÁRNAPIG (2023.10.02-08.)\n\n\n- "Kiál
 lítás az ablakban - Aradi vértanúk" Könyvek, cikkek, illusztrációk\n\n\nKED
 D (2023.10.03.)\n\n\n- Könyv-Érték-Tár: A Napsugár Nyugdíjas klub részvétel
 ével a veszprémi Települési Értéktár "kincsei" sorozatban Francsics Károly 
 visszaemlékezései\n\n\nSZERDA (2023.10.04.)\n\n\n- "Kell a szép könyv!" - a
  Bóbita óvoda Búzavirág csoport szövegértést fejlesztő foglalkozása\n\n\nPÉ
 NTEK (2023.10.06.)\n\n\n- "A könyv örökség- a könyv élmény" Kézműves foglal
 kozás régi könyvlapok felhasználásával\n\n\n&nbsp;\n\n\nA Cholnoky lakótele
 pi Könyvtár (Veszprém, Rózsa u. 48.) programjai: &nbsp;\n\n\nHÉTFŐTŐL - PÉN
 TEKIG (2023.10.02-10.06.)\n\n\n- Amnesztia napok: a lejárt határidejű dokum
 entumokat késedelmi díj felszámítása nélkül visszavesszük!\n\n\nCSÜTÖRTÖK (
 2023.10.05.)\n\n\n- 10:15-10:45 Ringató foglalkozás Rábaközi Ritával\n\n\n\
 n\nA Dózsavárosi Könyvtár (Veszprém, Szent István u. 73.) programjai:\n\n\n
 HÉTFŐTŐL - PÉNTEKIG (2023.10.02-10.06.)\n\n\n- Amnesztia napok: a lejárt ha
 táridejű dokumentumokat késedelmi díj felszámítása nélkül visszavesszük!\n\
 n\n- Olvass az egészségedért! - Kiállítás gyógyító könyveinkből\n\n\nHÉTFŐT
 ŐL - VASÁRNAPIG (2023.10.02-08.)\n\n\n- Regényekkel a világ körül - Online 
 totó egész héten, nyereményekért! -&nbsp;https://docs.google.com/forms/d/e/
 1FAIpQLSfwvibGD4YzlrBfSix_zyrCgEX3-c10Fk173NXFECrTDl0Dfw/viewform\n\n\nKEDD
  (2023.10.03.)\n\n\n- 16:30 Generációk mesekeddje: kedvenc mesékből, játéko
 kból szemezgetünk babáktól a dédikig\n\n\nPÉNTEK (2023.10.06.)\n\n\n- 17:00
  A táplálkozási lánc problémájának feltárása egészségünk védelmében, fennta
 rtásában: Dr. Csicsor János kutató-fejlesztő vegyészmérnök előadása\n
DTSTAMP:20260423T111025Z
DTSTART;TZID=Europe/Budapest:20231002T080000
DTEND;TZID=Europe/Budapest:20231008T180000
SEQUENCE:0
TRANSP:OPAQUE
END:VEVENT
END:VCALENDAR