BEGIN:VCALENDAR
VERSION:2.0
PRODID:-//jEvents 2.0 for Joomla//EN
CALSCALE:GREGORIAN
METHOD:PUBLISH
BEGIN:VTIMEZONE
TZID:Europe/Budapest
BEGIN:STANDARD
DTSTART:20221030T020000
RDATE:20230326T030000
TZOFFSETFROM:+0200
TZOFFSETTO:+0100
TZNAME:Europe/Budapest CET
END:STANDARD
BEGIN:STANDARD
DTSTART:20231029T020000
RDATE:20240331T030000
TZOFFSETFROM:+0200
TZOFFSETTO:+0100
TZNAME:Europe/Budapest CET
END:STANDARD
BEGIN:STANDARD
DTSTART:20241027T020000
RDATE:20250330T030000
TZOFFSETFROM:+0200
TZOFFSETTO:+0100
TZNAME:Europe/Budapest CET
END:STANDARD
BEGIN:STANDARD
DTSTART:20251026T020000
RDATE:20260329T030000
TZOFFSETFROM:+0200
TZOFFSETTO:+0100
TZNAME:Europe/Budapest CET
END:STANDARD
BEGIN:STANDARD
DTSTART:20261025T020000
RDATE:20270328T030000
TZOFFSETFROM:+0200
TZOFFSETTO:+0100
TZNAME:Europe/Budapest CET
END:STANDARD
BEGIN:STANDARD
DTSTART:20271031T020000
RDATE:20280326T030000
TZOFFSETFROM:+0200
TZOFFSETTO:+0100
TZNAME:Europe/Budapest CET
END:STANDARD
BEGIN:STANDARD
DTSTART:20281029T020000
RDATE:20290325T030000
TZOFFSETFROM:+0200
TZOFFSETTO:+0100
TZNAME:Europe/Budapest CET
END:STANDARD
BEGIN:STANDARD
DTSTART:20291028T020000
RDATE:20300331T030000
TZOFFSETFROM:+0200
TZOFFSETTO:+0100
TZNAME:Europe/Budapest CET
END:STANDARD
BEGIN:STANDARD
DTSTART:20301027T020000
RDATE:20310330T030000
TZOFFSETFROM:+0200
TZOFFSETTO:+0100
TZNAME:Europe/Budapest CET
END:STANDARD
BEGIN:STANDARD
DTSTART:20311026T020000
RDATE:20320328T030000
TZOFFSETFROM:+0200
TZOFFSETTO:+0100
TZNAME:Europe/Budapest CET
END:STANDARD
BEGIN:DAYLIGHT
DTSTART:20221017T160000
RDATE:20221030T020000
TZOFFSETFROM:+0100
TZOFFSETTO:+0200
TZNAME:Europe/Budapest CEST
END:DAYLIGHT
BEGIN:DAYLIGHT
DTSTART:20230326T030000
RDATE:20231029T020000
TZOFFSETFROM:+0100
TZOFFSETTO:+0200
TZNAME:Europe/Budapest CEST
END:DAYLIGHT
BEGIN:DAYLIGHT
DTSTART:20240331T030000
RDATE:20241027T020000
TZOFFSETFROM:+0100
TZOFFSETTO:+0200
TZNAME:Europe/Budapest CEST
END:DAYLIGHT
BEGIN:DAYLIGHT
DTSTART:20250330T030000
RDATE:20251026T020000
TZOFFSETFROM:+0100
TZOFFSETTO:+0200
TZNAME:Europe/Budapest CEST
END:DAYLIGHT
BEGIN:DAYLIGHT
DTSTART:20260329T030000
RDATE:20261025T020000
TZOFFSETFROM:+0100
TZOFFSETTO:+0200
TZNAME:Europe/Budapest CEST
END:DAYLIGHT
BEGIN:DAYLIGHT
DTSTART:20270328T030000
RDATE:20271031T020000
TZOFFSETFROM:+0100
TZOFFSETTO:+0200
TZNAME:Europe/Budapest CEST
END:DAYLIGHT
BEGIN:DAYLIGHT
DTSTART:20280326T030000
RDATE:20281029T020000
TZOFFSETFROM:+0100
TZOFFSETTO:+0200
TZNAME:Europe/Budapest CEST
END:DAYLIGHT
BEGIN:DAYLIGHT
DTSTART:20290325T030000
RDATE:20291028T020000
TZOFFSETFROM:+0100
TZOFFSETTO:+0200
TZNAME:Europe/Budapest CEST
END:DAYLIGHT
BEGIN:DAYLIGHT
DTSTART:20300331T030000
RDATE:20301027T020000
TZOFFSETFROM:+0100
TZOFFSETTO:+0200
TZNAME:Europe/Budapest CEST
END:DAYLIGHT
BEGIN:DAYLIGHT
DTSTART:20310330T030000
RDATE:20311026T020000
TZOFFSETFROM:+0100
TZOFFSETTO:+0200
TZNAME:Europe/Budapest CEST
END:DAYLIGHT
END:VTIMEZONE
BEGIN:VEVENT
UID:d31bfe3f42b7c81168503747dd160092
CATEGORIES:EKMK
CREATED:20231002T111034
SUMMARY:Board Games at American Corner Veszprém
DESCRIPTION;ENCODING=QUOTED-PRINTABLE:Az American Corner angol nyelvű társasozásra várja az érdeklődőket október 
 18-án.&nbsp;&nbsp;Regisztráció: This email address is being protected from 
 spambots. You need JavaScript enabled to view it.
				document.getElementBy
 Id('cloak00672b00dae9dab69f4a1eb88560f56c').innerHTML = '';
				var prefix 
 = '&#109;a' + 'i&#108;' + '&#116;o';
				var path = 'hr' + 'ef' + '=';
				
 var addy00672b00dae9dab69f4a1eb88560f56c = 'v&#101;szpr&#101;m&#97;ch' + '&
 #64;';
				addy00672b00dae9dab69f4a1eb88560f56c = addy00672b00dae9dab69f4a1
 eb88560f56c + 'gm&#97;&#105;l' + '&#46;' + 'c&#111;m';
				var addy_text006
 72b00dae9dab69f4a1eb88560f56c = 'v&#101;szpr&#101;m&#97;ch' + '&#64;' + 'gm
 &#97;&#105;l' + '&#46;' + 'c&#111;m';document.getElementById('cloak00672b00
 dae9dab69f4a1eb88560f56c').innerHTML += ''+addy_text00672b00dae9dab69f4a1eb
 88560f56c+'';
		Helyszín: Eötvös Károly Megyei Könyvtár - American CornerEs
 emény: https://bit.ly/464ckoN&nbsp;Do you like playing board games? Would y
 ou like to improve your English language skills? Do you want to learn more 
 about the United States?Good news! You can do all three at American Corner 
 Veszprém's Board Games afternoon!\nA fun learning experience is guaranteed 
 by the AC's collection of more than 20 board games, for all ages!Please sig
 n up for the event at This email address is being protected from spambots. 
 You need JavaScript enabled to view it.
				document.getElementById('cloakb
 7a6e82b876cce97a051e71ee87500dd').innerHTML = '';
				var prefix = '&#109;a
 ' + 'i&#108;' + '&#116;o';
				var path = 'hr' + 'ef' + '=';
				var addyb7
 a6e82b876cce97a051e71ee87500dd = 'v&#101;szpr&#101;m&#97;ch' + '&#64;';
			
 	addyb7a6e82b876cce97a051e71ee87500dd = addyb7a6e82b876cce97a051e71ee87500d
 d + 'gm&#97;&#105;l' + '&#46;' + 'c&#111;m';
				var addy_textb7a6e82b876cc
 e97a051e71ee87500dd = 'v&#101;szpr&#101;m&#97;ch' + '&#64;' + 'gm&#97;&#105
 ;l' + '&#46;' + 'c&#111;m';document.getElementById('cloakb7a6e82b876cce97a0
 51e71ee87500dd').innerHTML += ''+addy_textb7a6e82b876cce97a051e71ee87500dd+
 '';
		 to save your seat.Let's play!
DTSTAMP:20260422T211252Z
DTSTART;TZID=Europe/Budapest:20231018T160000
DTEND;TZID=Europe/Budapest:20231018T180000
SEQUENCE:0
TRANSP:OPAQUE
END:VEVENT
END:VCALENDAR