BEGIN:VCALENDAR
VERSION:2.0
PRODID:-//jEvents 2.0 for Joomla//EN
CALSCALE:GREGORIAN
METHOD:PUBLISH
BEGIN:VTIMEZONE
TZID:Europe/Budapest
BEGIN:STANDARD
DTSTART:20231029T020000
RDATE:20240331T030000
TZOFFSETFROM:+0200
TZOFFSETTO:+0100
TZNAME:Europe/Budapest CET
END:STANDARD
BEGIN:STANDARD
DTSTART:20241027T020000
RDATE:20250330T030000
TZOFFSETFROM:+0200
TZOFFSETTO:+0100
TZNAME:Europe/Budapest CET
END:STANDARD
BEGIN:STANDARD
DTSTART:20251026T020000
RDATE:20260329T030000
TZOFFSETFROM:+0200
TZOFFSETTO:+0100
TZNAME:Europe/Budapest CET
END:STANDARD
BEGIN:STANDARD
DTSTART:20261025T020000
RDATE:20270328T030000
TZOFFSETFROM:+0200
TZOFFSETTO:+0100
TZNAME:Europe/Budapest CET
END:STANDARD
BEGIN:STANDARD
DTSTART:20271031T020000
RDATE:20280326T030000
TZOFFSETFROM:+0200
TZOFFSETTO:+0100
TZNAME:Europe/Budapest CET
END:STANDARD
BEGIN:STANDARD
DTSTART:20281029T020000
RDATE:20290325T030000
TZOFFSETFROM:+0200
TZOFFSETTO:+0100
TZNAME:Europe/Budapest CET
END:STANDARD
BEGIN:STANDARD
DTSTART:20291028T020000
RDATE:20300331T030000
TZOFFSETFROM:+0200
TZOFFSETTO:+0100
TZNAME:Europe/Budapest CET
END:STANDARD
BEGIN:STANDARD
DTSTART:20301027T020000
RDATE:20310330T030000
TZOFFSETFROM:+0200
TZOFFSETTO:+0100
TZNAME:Europe/Budapest CET
END:STANDARD
BEGIN:STANDARD
DTSTART:20311026T020000
RDATE:20320328T030000
TZOFFSETFROM:+0200
TZOFFSETTO:+0100
TZNAME:Europe/Budapest CET
END:STANDARD
BEGIN:DAYLIGHT
DTSTART:20230930T090000
RDATE:20231029T020000
TZOFFSETFROM:+0100
TZOFFSETTO:+0200
TZNAME:Europe/Budapest CEST
END:DAYLIGHT
BEGIN:DAYLIGHT
DTSTART:20240331T030000
RDATE:20241027T020000
TZOFFSETFROM:+0100
TZOFFSETTO:+0200
TZNAME:Europe/Budapest CEST
END:DAYLIGHT
BEGIN:DAYLIGHT
DTSTART:20250330T030000
RDATE:20251026T020000
TZOFFSETFROM:+0100
TZOFFSETTO:+0200
TZNAME:Europe/Budapest CEST
END:DAYLIGHT
BEGIN:DAYLIGHT
DTSTART:20260329T030000
RDATE:20261025T020000
TZOFFSETFROM:+0100
TZOFFSETTO:+0200
TZNAME:Europe/Budapest CEST
END:DAYLIGHT
BEGIN:DAYLIGHT
DTSTART:20270328T030000
RDATE:20271031T020000
TZOFFSETFROM:+0100
TZOFFSETTO:+0200
TZNAME:Europe/Budapest CEST
END:DAYLIGHT
BEGIN:DAYLIGHT
DTSTART:20280326T030000
RDATE:20281029T020000
TZOFFSETFROM:+0100
TZOFFSETTO:+0200
TZNAME:Europe/Budapest CEST
END:DAYLIGHT
BEGIN:DAYLIGHT
DTSTART:20290325T030000
RDATE:20291028T020000
TZOFFSETFROM:+0100
TZOFFSETTO:+0200
TZNAME:Europe/Budapest CEST
END:DAYLIGHT
BEGIN:DAYLIGHT
DTSTART:20300331T030000
RDATE:20301027T020000
TZOFFSETFROM:+0100
TZOFFSETTO:+0200
TZNAME:Europe/Budapest CEST
END:DAYLIGHT
BEGIN:DAYLIGHT
DTSTART:20310330T030000
RDATE:20311026T020000
TZOFFSETFROM:+0100
TZOFFSETTO:+0200
TZNAME:Europe/Budapest CEST
END:DAYLIGHT
END:VTIMEZONE
BEGIN:VEVENT
UID:dffac8f431eb4692349be8e4870f8f8c
CATEGORIES:EKMK
CREATED:20240918T142114
SUMMARY:Országos Könyvtári Napok az Eötvös Károly Könyvtárban
DESCRIPTION;ENCODING=QUOTED-PRINTABLE:&nbsp;\n\nUnatkozni kár, 2024. október 06-án ingyenes beiratkozással, amnes
 ztia nappal vár a központi könyvtár.\n\n\nA&nbsp;16-70 év közötti olvasóink
 nak&nbsp;ingyenes beiratkozást tartunk, mely a komplex beiratkozásra is von
 atkozik.\n\n\nAmnesztia: a lejárt határidejű dokumentumokat késedelmi díj f
 elszámítása nélkül visszavesszük, amennyiben minden dokumentumot visszahozn
 ak könyvtárunkba.\n\n\n&nbsp;\n\n\nA központi könyvtár programjai\n\n\nEgés
 z héten elérhető programok:\n\n\nVeszprém és a négy elem\nOnline kvíz\n\n\n
 Víz, föld, tűz, levegő\nPillanatképek Veszprém történetéből\nA helyismereti
  gyűjtemény állományából készült dokumentumkiállítás\n\n\n&nbsp;\n\n\nSzept
 ember 30. hétfő\n\n\n\nŐszi-téli olvasópályázat meghirdetése gyerekeknek há
 rom korcsoportban\nRészletek: www.ekmk.hu\n\n\n9:30 // Indulás: ZUG bejárat
 a\nTekerjünk a földért\nfaültetés a településeken\n\n\n16:00 // ZUG\nHegedü
 s Gyula - A tűz és a víz találkozása a sakktáblán\nElőadás\nRészletek\n\n\n
 16:30 // Kisfaludy Terem\nDr. Varga Anna: A vadon legeltetése\nFás legelős,
  erdei legeltetés és pásztorvilág a Bakony és Balaton vidékén és azon is tú
 l\nRészletek\n\n\n&nbsp;\n\n\nOktóber 1. kedd\n\n\n16:00-18:00 // ZUG\nTerí
 tsük ki lapjainkat!\nInduló kártyaklub minden korosztálynak, a magyar kárty
 a újrafelfedezése\nRészletek\n\n\n17:00 // Kisfaludy Terem\nDr. Gyulai Iván
  - Ökológiai szabályozás a kertben -&nbsp;&nbsp;BETELT\nElőadás\nRegisztrác
 ió:&nbsp;https://forms.gle/7Tvof48sNUPmexZo7&nbsp;vagy&nbsp;This email addr
 ess is being protected from spambots. You need JavaScript enabled to view i
 t.
				document.getElementById('cloake72d73467fa8bde54b2c6565d12c00c9').inn
 erHTML = '';
				var prefix = '&#109;a' + 'i&#108;' + '&#116;o';
				var pa
 th = 'hr' + 'ef' + '=';
				var addye72d73467fa8bde54b2c6565d12c00c9 = 'v&#
 101;kszr.&#101;kmk' + '&#64;';
				addye72d73467fa8bde54b2c6565d12c00c9 = a
 ddye72d73467fa8bde54b2c6565d12c00c9 + 'gm&#97;&#105;l' + '&#46;' + 'c&#111;
 m';
				var addy_texte72d73467fa8bde54b2c6565d12c00c9 = 'v&#101;kszr.&#101;
 kmk' + '&#64;' + 'gm&#97;&#105;l' + '&#46;' + 'c&#111;m';document.getElemen
 tById('cloake72d73467fa8bde54b2c6565d12c00c9').innerHTML += ''+addy_texte72
 d73467fa8bde54b2c6565d12c00c9+'';
		\n\n\nRészletek\n\n\nOktóber 2. szerda\
 n\n\n16:30 // ZUG\nDr. Kenyeres Zoltán zoológus: Pillantás a maják földjére
 \nKirándulás a Yucatán-félszigeten\nRészletek\n\n\n19:00 // Kisfaludy Terem
 \nVároskvíz\nVeszprém tematikájú kocsmakvíz est a könyvtárban\nA 4-6 fős cs
 apatok jelentkezését a&nbsp;This email address is being protected from spam
 bots. You need JavaScript enabled to view it.
				document.getElementById('
 cloakc00460391dcb50002235066de7f66c7c').innerHTML = '';
				var prefix = '&
 #109;a' + 'i&#108;' + '&#116;o';
				var path = 'hr' + 'ef' + '=';
				var 
 addyc00460391dcb50002235066de7f66c7c = 'k&#105;r&#97;ly.&#97;ndr&#97;s' + '
 &#64;';
				addyc00460391dcb50002235066de7f66c7c = addyc00460391dcb50002235
 066de7f66c7c + '&#101;kmk' + '&#46;' + 'h&#117;';
				var addy_textc0046039
 1dcb50002235066de7f66c7c = 'k&#105;r&#97;ly.&#97;ndr&#97;s' + '&#64;' + '&#
 101;kmk' + '&#46;' + 'h&#117;';document.getElementById('cloakc00460391dcb50
 002235066de7f66c7c').innerHTML += ''+addy_textc00460391dcb50002235066de7f66
 c7c+'';
		&nbsp;e-mail címre várjuk a csapatnév és a létszám feltüntetéséve
 l.\nRészletek\n\n\nOktóber 3. csütörtök\n\n\n16:00 // Kisfaludy Terem\nDr. 
 Borsos Béla humánökológus: Baj van a Földdel?\nKlímapara helyett klímamotiv
 áció, avagy rendhagyó gondolatok az éghajlatváltozásról\nRészletek\n\n\nOkt
 óber 4. péntek\n\n\n15:00–17:00 // Olvasóterem\nGyógynövényismeret interakt
 ívan -&nbsp;BETELT\nSzarvaskör Egyesület: Sós Mari, Balter József\n\n\n15:0
 0 // Kisfaludy Terem\nRybár Olivér: Az "elveszett" Nobel-díj nyomában\nChol
 noky Jenő skandináv utazásai\nVeszprémi Szemle bemutatójával egybekötött re
 ndezvény\nRészletek\n\n\n16:30–17:30 // Gyermekkönyvtár\nHangszerválasztó: 
 Hang-játszóház\nFedezzük fel együtt a hangszerek világát Prejczer Katával!\
 nRészletek\n\n\n17:00 // ZUG\nJuhász Zoli koncert\nRészletek\n\n\nOktóber 5
 . szombat\n\n\n10:00-16:00 // Találkozó: Felsőörs központjában, a műemlék t
 emplomnál\nNégy Őselem túra – Felsőörs\nA túra hossza 10 km, összesített sz
 intkülönbség 200 m\nA túrát vezeti: Futó János geológus, természetvédelmi s
 zakértő\nRészletek\n\n\n10:00-16:00 // Olvasóterem\nNégy elem kalandjáték\n
 Izgalmas labirintus gyerekeknek\nRészletek\n\n\n\n10:00-11:00 // Eötvös Kár
 oly Könyvtár, Bejárat fölötti terasz (rossz idő esetén beszélgetés a ZUG-ba
 n)\nA Bakonyi Csillagászati Egyesület „Nappali csillagunk” távcsöves bemuta
 tója\nAz egyesület távcsöveinek segítségével a Nap felszínét vesszük szemüg
 yre.\nRészletek\n\n\n11:00-13:00 // ZUG\n„Az égi kövek rejtélyes világa”\nA
  Bakonyi Csillagászati Egyesület interaktív előadása a meteoritok csodálato
 s világáról\nRészletek\n\n\n10:00-13:00 // Gyermekkönyvtár\nCsaládi 7Próba\
 nOlvasásfejlesztő családi vetélkedő\n\n\n10:00-11:00 // Gyermekkönyvtár\nKu
 tyaterápiás foglalkozás Jánoska Anikóval az Állatok világnapja alkalmából\n
 \n\n11:00-12:00 // Gyermekkönyvtár\nSuttogóDoki: beszélgetés a felelős álla
 ttartásról Dr. Fajd-Gellei Zsófia állatorvossal\nRészletek\n\n\n10:00-16:00
  // Gyermekkönyvtár\nepitojatek.hu - Az Építőkockák Új Generációja\nKészség
 fejlesztő építőjáték-bemutató Lassu Gáborral\n\n\n14:00-15:30 // Gyermekkön
 yvtár\nŐszi kézműves délután Nemes Évával\nCsaládi játszóház természetes an
 yagokból\n\n\n12:00 // Kisfaludy Terem\nSakkverseny gyerekeknek\n\n\n17:00 
 // ZUG\nSándorfi Viktor dobos: Őselemek a ritmusgyakorlatokban\nRitmusworks
 hop\nRészletek\n\n\nOktóber 6. vasárnap\n\n\nNyitvatartás: 10:00-18:00\n\n\
 n10:00-18:00 // Veszprém Megyei Helyismereti Gyűjtemény\nCholnoky Jenő vilá
 gkörüli utazásai\nMinikiállítás a helyismereti gyűjtemény anyagából\n\n\n\n
 \n10 és 18 óra között, szabadon választott indulási időpontokban // Eötvös 
 Károly Könyvtár bejárata\nBookcaching\nQR-kódos önálló séta az Eötvös Károl
 y Könyvtártól a Tűztornyon át a Séd-patakon átívelő viadukton keresztül a k
 avicsfogú álteknőst is megörökítő Halagútig.\nRészletek\n\n\n\n\n10:00-18:0
 0 // American Corner\nBook Sunday at the American Corner Veszprém\nRészlete
 k\n\n\n10:00-16:00 // Eötvös Károly Könyvtár udvara\nTűzoltóautó-simogató\n
 A tűz és a víz harca\n\n10:30-12:00 / 15:30-17:00 // Olvasóterem\nNégy elem
  szimbólumok\nKézműves foglalkozás\nRészletek\n\n\n10:00-18:00 // Gyermekkö
 nyvtár\nepitojatek.hu - Az Építőkockák Új Generációja\nKészségfejlesztő épí
 tőjáték-bemutató Lassu Gáborral\n\n\n10.30-11:30 // Gyermekkönyvtár\nOvimuz
 sika: interaktív zenés hangszerbemutató kicsiknek\n\n\n14:00-15:30 // Gyerm
 ekkönyvtár\nPólófestés Gyulai Attila festőművésszel - BETELT\nregisztráció:
 &nbsp;This email address is being protected from spambots. You need JavaScr
 ipt enabled to view it.
				document.getElementById('cloak2c35f778941602235
 3a8025ef6b6615b').innerHTML = '';
				var prefix = '&#109;a' + 'i&#108;' + 
 '&#116;o';
				var path = 'hr' + 'ef' + '=';
				var addy2c35f7789416022353
 a8025ef6b6615b = 'v&#97;rg&#97;n&#101;&#101;' + '&#64;';
				addy2c35f77894
 16022353a8025ef6b6615b = addy2c35f7789416022353a8025ef6b6615b + '&#101;kmk'
  + '&#46;' + 'h&#117;';
				var addy_text2c35f7789416022353a8025ef6b6615b =
  'v&#97;rg&#97;n&#101;&#101;' + '&#64;' + '&#101;kmk' + '&#46;' + 'h&#117;'
 ;document.getElementById('cloak2c35f7789416022353a8025ef6b6615b').innerHTML
  += ''+addy_text2c35f7789416022353a8025ef6b6615b+'';
		&nbsp;vagy +36-88/56
 0-610, 107-es mellék.\nA részvétel ingyenes, de fehér pólót a résztvevőknek
  kell hozniuk.\nRészletek\n\n\n16:00-17:00 // Gyermekkönyvtár\nIsmerkedjünk
  a digitális kultúrával!\nRobotika foglalkozás Juhász Rebekával\n\n\n15:30 
 // ZUG\nHegedüs Lilla - Hang, utazás s életelemek\nA hangtálak világa\nRész
 letek\n\n\n17:00 // Kisfaludy Terem\nDávid Roland: Arcok a ködben\nDalok a 
 XX. századból - Dávid Roland akusztikus koncertje\nRészletek\n\n\nDózsaváro
 si Fiókkönyvtár programjai\n\n\nAMNESZTIA\nKönyvek visszavétele a késedelmi
  díj elengedésével és ingyenes beiratkozás hétfőtől péntekig, a nyitvatartá
 si időben.\n\n\nSzeptember 30. 15:00\nVitorlával a vízen: balatoni élmények
 \nDr. Klatsmányi János vetített képes előadása\n\n\nOktóber 1. 16:00\nIsmer
 d meg a „földedet”: MesÉLŐvilág mese- és élményséta\nA Mesekedd vendége Her
 czeg Adrienn környezetmérnök, meseterapeuta\n\n\nOktóber 2. 8:00\nA négy el
 em a jógában\nJógabemutató és foglalkozás Szalay Károlynéval\n\n\nOktóber 2
 . 10:00\nVarázsóra\nLátványos és játékos fizikai kísérletek dr. Szász János
  Péterrel\n\nOktóber 4. 16:00\nFöld-víz-tűz-levegő mint asztrológiai elemek
 \nZatykó Szilvia asztrológus előadása\n\n\nOktóber 5. szombat\n10:00-16:00\
 n\n\nII. Zöld Piknik\n\n\nEgész nap növény cserebere az udvaron!\nMagok, év
 elők, szobanövények: hozz, vigyél és cserélj tapasztalatot!\n\n\n10:00-13:0
 0\nIsmerkedj az állatokkal!\nÁllatsimogató\n\n\n15:00\nBiogazdálkodás és de
 nevérek?!\nMészáros József kertészmérnök és denevérkutató előadása\n\n\nKís
 érő programok:\nBatmobil kitelepülés\nKézműveskedés gyerekeknek\n\n\nMárciu
 s 15. úti Fiókkönyvtár programjai\n\n\nAMNESZTIA\nKönyvek visszavétele a ké
 sedelmi díj elengedésével és ingyenes beiratkozás hétfőtől péntekig, a nyit
 vatartási időben.\n\n\nSzeptember 30. - október 6.\nFöld - Ősszel a termész
 etben\nKönyvajánló természetkedvelőknek\n\n\nSzeptember 30. - október 4. / 
 nyitvatartási időben\nKultúr-TURI\nMinden könyv találja meg a saját olvasój
 át!\n\n\nSzeptember 30. 16:00-18:00\nMeseforgó\nMagyar népmesék a természet
 ről -&nbsp;Kézműves foglalkozással\nRészletek\n\n\nOktóber 1. 14:00-16:00\n
 Árvíz a Séden\nAz 1803. május 7-i árvíz Veszprémben – beszélgetés\n\n\nOktó
 ber 2. 9:00-12:00\nA négy elem - Létezésünk alapjai\nBeszélgetés az élet do
 lgairól&nbsp;a Bölcsek Kávéházában\n\n\nOktóber 3. 9:00-10:00\nLevegő\nM. N
 yírő Mária: Felhőkert című meseregényének bemutatója\n\n\nCholnoky Lakótele
 pi Fiókkönyvtár programjai\n\n\nAMNESZTIA\nKönyvek visszavétele a késedelmi
  díj elengedésével és ingyenes beiratkozás hétfőtől péntekig, a nyitvatartá
 si időben.\n\n\nSzeptember 30. 16:00-18:00\nKreatív írásműhely az elemekkel
 \nIrodalmi játékok és ráhangolódás\n\n\nOktóber 2. 15:00-18:00\n„Darabról d
 arabra – Játsszuk össze a teljes képet” - Puzzletéka\nPuzzle-rejtvény és ny
 ílt kirakózás a könyvtár területén.\n\n\nOktóber 3. 10:15-10:45\nRingató fo
 glalkozás Rábaközi Ritával\n\n\nOktóber 4.\nA barátság ereje\n\n16:00-17:00
 \nSzőrös, őszinte barátaink\nKutyaterápia\n\n\n17:00-17:30\nMúlt-jelen-jövő
 \nBemutató a Horgony Alapítvány életéből\n\n\n17:30-18:30\nTe is tudsz tánc
 olni!\nNépek táncai barátainkkal és mindenkivel\n\n\n16:00-18:30\nA barátsá
 g ereje\nKiállítás a Horgony Alapítvány klienseinek rajzaiból\n\n\nAz esemé
 nyek ingyenesen látogathatók.\nA programokon kép- és hangfelvételek készülh
 etnek, amelyeket a honlapunkon és közösségi média felületeinken nyilvánossá
 gra hozunk.\n
DTSTAMP:20260422T153916Z
DTSTART;TZID=Europe/Budapest:20240930T090000
DTEND;TZID=Europe/Budapest:20241006T180000
SEQUENCE:0
TRANSP:OPAQUE
END:VEVENT
END:VCALENDAR